Workbook
Name IQ_CH: 110000
Name IQ_CQ: 5000
Name IQ_CY: 10000
Name IQ_DAILY: 500000
Name IQ_FH: 100000
Name IQ_FQ: 500
Name IQ_FY: 1000
Name IQ_LTM: 2000
Name IQ_MONTH: 15000
Name IQ_NTM: 6000
Name IQ_WEEK: 50000
Name IQ_YTD: 3000

Sheet 0. Identifikācija
B1: INRD seguma gaidu veidne – atsauces datums 31/12/2026
B3: Valsts: (divburtu ISO kods)
B5: Bankas kods: (RIAD MFI kods)
B7: Bankas LEI kods:
B9: Banka: (nosaukums)
B11: Bankas kontaktpersona: (vārds, uzvārds, e-pasts)
B13: Atsauces datums: T (formāts: dd/mm/gggg)
B15: Konsolidācijas līmenis:
B19: Piezīmes:

Sheet 1. Ietvertie INRD
B1: 1. tabula. APRĒĶINS PAR IZTRŪKUMU SALĪDZINĀJUMĀ AR SEGUMA GAIDĀM IETVERTAJIEM IENĀKUMUS NENESOŠAJIEM RISKA DARĪJUMIEM
F2: Kopā | G2: Turēšanas ilgums: gadi, kopš INRD klasificēts kā ienākumus nenesošs
G3: < = 1 gads | H3: > 1 gads; < = 2 gadi | I3: > 2 gadi; < = 3 gadi | J3: > 3 gadi; < = 4 gadi | K3: > 4 gadi; < = 5 gadi | L3: > 5 gadi; < = 6 gadi | M3: > 6 gadi; < = 7 gadi | N3: > 7 gadi; < = 8 gadi | O3: > 8 gadi; < = 9 gadi | P3: > 9 gadi
F4: 010 | G4: 020 | H4: 030 | I4: 040 | J4: 050 | K4: 060 | L4: 070 | M4: 080 | N4: 100 | O4: 110 | P4: 120
B5: 010 | C5: Iztrūkums salīdzinājumā ar seguma gaidām | E5: Summa (euro) | F5: =SUM(I5:P5) -> 0 | I5: =MAX(I7-I24,0) -> 0 | J5: =MAX(J7-J24,0) -> 0 | K5: =MAX(K7-K24,0) -> 0 | L5: =MAX(L7-L24,0) -> 0 | M5: =MAX(M7-M24,0) -> 0 | N5: =MAX(N7-N24,0) -> 0 | O5: =MAX(O7-O24,0) -> 0 | P5: =MAX(P7-P24,0) -> 0
B6: Kopējās minimālā seguma gaidas
B7: 030 | C7: Kopējās minimālā seguma gaidas ienākumus nenesošiem riska darījumiem | E7: Summa (euro) | F7: =SUM(I7:P7) -> 0 | I7: =+I8 -> 0 | J7: =+J8+J11+J14 -> 0 | K7: =+K8+K11+K14 -> 0 | L7: =+L8+L11+L14 -> 0 | M7: =+M8+M11+M14 -> 0 | N7: =+N8+N11+N14+N17 -> 0 | O7: =+O8+O11+O14+O17 -> 0 | P7: =+P8+P11+P14+P17 -> 0
B8: 040 | C8: Nenodrošināti INRD | D8: Minimālā seguma gaidas | E8: Summa (euro) | F8: =SUM(I8:P8) -> 0 | I8: =+I9*I10 -> 0 | J8: =+J9*J10 -> 0 | K8: =+K9*K10 -> 0 | L8: =+L9*L10 -> 0 | M8: =+M9*M10 -> 0 | N8: =+N9*N10 -> 0 | O8: =+O9*O10 -> 0 | P8: =+P9*P10 -> 0
B9: 050 | D9: Riska darījuma vērtība | E9: Summa (euro) | F9: =SUM(G9:P9) -> 0
B10: 060 | D10: Koeficients | E10: Skaitliska vērtība | I10: 0.35 | J10: 0.7 | K10: 0.7 | L10: 0.7 | M10: 0.7 | N10: 0.7 | O10: 0.7 | P10: 0.7
B11: 100 | C11: Nodrošināti ar nekustamo īpašumu vai mājokļa kredītu, ko garantē atbilstošs aizsardzības devējs | D11: Minimālā seguma gaidas | E11: Summa (euro) | F11: =SUM(J11:P11) -> 0 | J11: =+J12*J13 -> 0 | K11: =+K12*K13 -> 0 | L11: =+L12*L13 -> 0 | M11: =+M12*M13 -> 0 | N11: =+N12*N13 -> 0 | O11: =+O12*O13 -> 0 | P11: =+P12*P13 -> 0
B12: 110 | D12: Riska darījuma vērtība | E12: Summa (euro) | F12: =SUM(G12:P12) -> 0
B13: 120 | D13: Koeficients | E13: Skaitliska vērtība | J13: 0.25 | K13: 0.35 | L13: 0.55 | M13: 0.7 | N13: 0.7 | O13: 0.7 | P13: 0.7
B14: 130 | C14: Nodrošināti ar citu fondētu vai nefondētu kredītaizsardzību | D14: Minimālā seguma gaidas | E14: Summa (euro) | F14: =SUM(J14:P14) -> 0 | J14: =J16*J15 -> 0 | K14: =K16*K15 -> 0 | L14: =L16*L15 -> 0 | M14: =M16*M15 -> 0 | N14: =N16*N15 -> 0 | O14: =O16*O15 -> 0 | P14: =P16*P15 -> 0
B15: 140 | D15: Riska darījuma vērtība | E15: Summa (euro) | F15: =SUM(G15:P15) -> 0
B16: 150 | D16: Koeficients | E16: Skaitliska vērtība | J16: 0.25 | K16: 0.35 | L16: 0.55 | M16: 0.7 | N16: 0.7 | O16: 0.7 | P16: 0.7
B17: 161 | C17: INRD, ko garantējušas vai kā atbalsta garantiju sniegušas valstu valdības vai citas valsts iestādes (koeficients 1) | D17: Minimālā seguma gaidas | E17: Summa (euro) | F17: =SUM(N17:P17) -> 0 | N17: =N19*N18 -> 0 | O17: =O19*O18 -> 0 | P17: =P19*P18 -> 0
B18: 171 | D18: Riska darījuma vērtība | E18: Summa (euro) | F18: =SUM(G18:P18) -> 0
B19: 181 | D19: Koeficients | E19: Skaitliska vērtība | N19: 0.7 | O19: 0.7 | P19: 0.7
B20: 185 | C20: INRD, ko garantējušas vai kā atbalsta garantiju sniegušas valstu valdības vai citas valsts iestādes (koeficients 0) | D20: Minimālā seguma gaidas | E20: Summa (euro)
B21: 190 | D21: Riska darījuma vērtība | E21: Summa (euro) | F21: =SUM(G21:P21) -> 0
B22: 195 | D22: Koeficients | E22: Skaitliska vērtība
B23: Pieejamais segums
B24: 200 | C24: Kopējie uzkrājumi un korekcijas vai atskaitījumi (ar ierobežojumu) | E24: Summa (euro) | F24: =SUM(I24:P24) -> 0
B25: 210 | C25: Kopējie uzkrājumi un korekcijas vai atskaitījumi (bez ierobežojuma) | E25: Summa (euro) | F25: =SUM(G25:P25) -> 0 | G25: =SUM(G26:G31) -> 0 | H25: =SUM(H26:H31) -> 0 | I25: =SUM(I26:I31) -> 0 | J25: =SUM(J26:J31) -> 0 | K25: =SUM(K26:K31) -> 0 | L25: =SUM(L26:L31) -> 0 | M25: =SUM(M26:M31) -> 0 | N25: =SUM(N26:N31) -> 0 | ... P25: =SUM(P26:P31) -> 0
B26: 220 | C26: Specifiskās kredītriska korekcijas | E26: Summa (euro) | F26: =SUM(G26:P26) -> 0
B27: 230 | C27: Vērtības papildkorekcijas | E27: Summa (euro) | F27: =SUM(G27:P27) -> 0
B28: 240 | C28: Citi pašu kapitāla samazinājumi | E28: Summa (euro) | F28: =SUM(G28:P28) -> 0
B29: 250 | C29: IRB deficīts (ja tāds ir) | E29: Summa (euro) | F29: =SUM(G29:P29) -> 0
B30: 260 | C30: Starpība starp iegādes cenu un debitora parāda summu | E30: Summa (euro) | F30: =SUM(G30:P30) -> 0
B31: 270 | C31: Daļēji norakstītās summas | E31: Summa (euro) | F31: =SUM(G31:P31) -> 0
B32: 280 | C32: T. sk.: nenodrošināti | E32: Summa (euro) | F32: =SUM(I32:P32) -> 0
B33: 290 | C33: T. sk.: nodrošināti ar nekustamo īpašumu vai mājokļa kredītu, ko garantē atbilstošs aizsardzības devējs | E33: Summa (euro) | F33: =SUM(J33:P33) -> 0
B34: 300 | C34: T. sk.: nodrošināti ar citu fondētu vai nefondētu kredītaizsardzību | E34: Summa (euro) | F34: =SUM(J34:P34) -> 0
B35: 315 | C35: T. sk.: ko garantējis vai kā atbalsta garantiju sniedzis atbilstošs kredītaizsardzības devējs (koeficients 1) | E35: Summa (euro) | F35: =SUM(N35:P35) -> 0

Sheet 2. Izņēmumi
H1: 2. tabula. IEROSINĀTIE IZŅĒMUMI, GRUPĒTI PĒC LĪDZĪGĀM IEZĪMĒM
H2: Pozīcija | I2: Riska darījumu grupa ar līdzīgām iezīmēm | O2: Riska darījuma vērtība | P2: Specifiskās kredītriska korekcijas | Q2: Kopējie uzkrājumi un korekcijas vai atskaitījumi (ar ierobežojumu) | R2: Kopējās minimālā seguma gaidas | S2: Papildinformācija
I3: Segments | J3: Maz ticams maksājums (jā/nē) | K3: Pārskatīšana (jā/nē) | L3: Parādu savstarpējās ietekmes efekts | M3: Apvienojumā ar 1. pīlāra kredītriska prasībām riska darījuma segums pārsniedz 100 % | N3: Tehniskā garantija | S3: Vidējais svērtais turēšanas ilgums | T3: Piešķirto pārskatīšanas pasākumu skaits (vidējais svērtais lielums) | U3: Laiks kopš pēdējā pārskatīšanas pasākuma īstenošanas (vidējais svērtais lielums) | V3: Gada laikā atmaksājamās nenomaksātās pamatsummas īpatsvars (svērtais vidējais lielums) | W3: Gada laikā atmaksājamo nenomaksāto procentu maksājumu īpatsvars (svērtais vidējais lielums) | X3: Periods, kura laikā veikti līgumā noteiktie maksājumi (atbilstoši pēcpārskatīšanas nosacījumiem, ja tādi ir) (vidējais svērtais lielums) | Y3: Atlikušais termiņš (vidējais svērtais lielums) | Z3: Kavējuma dienas (vidējais svērtais lielums) | AA3: Ietverto riska darījumu skaits | AB3: IRB portfeļu 1. pīlāra kredītriska kapitāla prasības (EAD*RW*8 %) (tikai, ja 060. ailē norādīts "jā") | AC3: Būtiska papildu informācija (lūdzam sniegt īsu aprakstu) | AD3: Minimālā informācijas pilnīguma pārbaudes | AE3: Minimālo izņēmuma statusa piemērošanas nosacījumu pārbaude | AF3: Seguma iztrūkuma samazinājums izņēmuma statusa piešķiršanas gadījumā | AG3: Riska darījumu vērtības daļa no kopējās riska darījumu vērtības, uz kuru attiecas uzraudzības seguma gaidas | AH3: Seguma iztrūkuma samazinājums kā daļa no riska darījumu, uz kuriem attiecas uzraudzības seguma gaidas, kopējā seguma iztrūkuma | AI3: NKI novērtējums – izņēmuma statuss piešķirts Jā/Nē | AJ3: Iztrūkuma samazinājums, pamatojoties uz NKI novērtējumu | AK3: Kopējais iztrūkums pēc samazinājuma, pamatojoties uz NKI novērtējumu
H4: 010 | I4: 020 | J4: 030 | K4: 040 | L4: 050 | M4: 060 | N4: 061 | O4: 070 | P4: 080 | Q4: 090 | R4: 100 | S4: 110 | T4: 120 | U4: 130 | V4: 140 | W4: 150 | X4: 160 | Y4: 170 | Z4: 180 | AA4: 190 | AB4: 200 | AC4: 210 | AD4: 220 | AE4: 230 | AF4: 240 | AG4: 250 | AH4: 260 | AI4: 270 | AJ4: 280 | AK4: 290
H5: Skaitliska vērtība | I5: Vērtības: | J5: Vērtības: | K5: Vērtības: | L5: Vērtības: | M5: Vērtības: | N5: Vērtības: | O5: Summa (euro) | P5: Summa (euro) | Q5: Summa (euro) | R5: Summa (euro) | S5: Skaitliska vērtība (mēneši) | T5: Skaitliska vērtība (pasākumu skaits) | U5: Skaitliska vērtība (mēneši) | V5: % | W5: % | X5: Skaitliska vērtība (mēneši) | Y5: Skaitliska vērtība (mēneši) | Z5: Skaitliska vērtība (dienas) | AA5: Skaitliska vērtība | AB5: Summa (euro) | AC5: Teksts brīvā formā | AD5: Teksts | AE5: Teksts | AF5: Summa (euro) | AG5: % | AH5: % | AI5: Vērtības: | AJ5: Summa (euro) | AK5: Summa (euro)
I6: Mājsaimniecības – aizdevumi, kas nodrošināti ar mājokļa nekustamo īpašumu | J6: Jā | K6: Jā | L6: Jā | M6: Jā | N6: Jā | AD6: Nepilnīga informācija | AE6: Nav izpildīti minimālie izņēmuma nosacījumi | AI6: Jā
I7: Mājsaimniecības – patēriņa kredīti | J7: Nē | K7: Nē | L7: Nē | M7: Nē | N7: Nē | AD7: OK | AE7: OK | AI7: Nē
I8: Mājsaimniecības – citi
I9: Nefinanšu sabiedrības – MVU
I10: Nefinanšu sabiedrības – citi
I11: Nefinanšu sabiedrības – aizdevumi, kas nodrošināti ar komerciālo nekustamo īpašumu
I12: Citas finanšu sabiedrības
I13: Kredītiestādes
I14: Vispārējās valdības
H16: Jāaizpilda uzraudzītajai iestādei | AD16: Automātiskās pārbaudes | AF16: Automātisks aprēķins | AI16: Jāaizpilda NKI
H18: Pozīcija | I18: Riska darījumu grupa ar līdzīgām iezīmēm | O18: Riska darījuma vērtība | P18: Specifiskās kredītriska korekcijas | Q18: Kopējie uzkrājumi un korekcijas vai atskaitījumi (ar ierobežojumu) | R18: Kopējās minimālā seguma gaidas | S18: Papildinformācija | AD18: Pilnīguma un ticamības pārbaudes | AF18: Ietekme izņēmuma statusa piešķiršanas gadījumā | AI18: NKI pārbaude
I19: Segments | J19: Maz ticams maksājums (jā/nē) | K19: Pārskatīšana (jā/nē) | L19: Parādu savstarpējās ietekmes efekts | M19: Apvienojumā ar 1. pīlāra kredītriska prasībām riska darījuma segums pārsniedz 100 % | N19: Tehniskā garantija | S19: Vidējais svērtais turēšanas ilgums | T19: Piešķirto pārskatīšanas pasākumu skaits (vidējais svērtais lielums) | U19: Laiks kopš pēdējā pārskatīšanas pasākuma īstenošanas (vidējais svērtais lielums) | V19: Gada laikā atmaksājamās nenomaksātās pamatsummas procentuālā daļa (svērtais vidējais lielums) | W19: Gada laikā atmaksājamo nenomaksāto procentu maksājumu procentuālā daļa (svērtais vidējais lielums) | X19: Periods, kura laikā veikti līgumā noteiktie maksājumi (atbilstoši pēcpārskatīšanas nosacījumiem, ja tādi ir) (vidējais svērtais lielums) | Y19: Atlikušais termiņš (vidējais svērtais lielums) | Z19: Kavējuma dienas (vidējais svērtais lielums) | AA19: Ietverto riska darījumu skaits | AB19: IRB portfeļu 1. pīlāra kredītriska kapitāla prasības (EAD*RW*8 %) (tikai, ja 060. ailē norādīts "jā") | AC19: Būtiska papildu informācija (lūdzam sniegt īsu aprakstu) | AD19: Minimālā informācijas pilnīguma pārbaudes | AE19: Minimālo izņēmuma statusa piemērošanas nosacījumu pārbaude | AF19: Seguma iztrūkuma samazinājums izņēmuma statusa piešķiršanas gadījumā | AG19: Riska darījumu vērtības daļa no kopējās riska darījumu vērtības, uz kuru attiecas uzraudzības seguma gaidas | AH19: Seguma iztrūkuma kā daļas no riska darījumu, uz kuriem attiecas uzraudzības seguma gaidas, kopējā seguma iztrūkuma samazinājums | AI19: NKI novērtējums – izņēmuma statuss piešķirts Jā/Nē | AJ19: Iztrūkuma samazinājums, pamatojoties uz NKI novērtējumu | AK19: Kopējais iztrūkums pēc samazinājuma, pamatojoties uz NKI novērtējumu
H20: 010 | I20: 020 | J20: 030 | K20: 040 | L20: 050 | M20: 060 | N20: 061 | O20: 070 | P20: 080 | Q20: 090 | R20: 100 | S20: 110 | T20: 120 | U20: 130 | V20: 140 | W20: 150 | X20: 160 | Y20: 170 | Z20: 180 | AA20: 190 | AB20: 200 | AC20: 210 | AD20: 220 | AE20: 230 | AF20: 240 | AG20: 250 | AH20: 260 | AI20: 270 | AJ20: 280 | AK20: 290
H21: 1. | AD21: =IF(SUM(O21:R21)=0,"", IF(AND(M21=$M$7,N21=$N$7), IF(OR(I21="",J21="",K21="",L21="",M21="",N21="",O21="",P21="",Q21="",R21="",S21="",V21="",W21="",X21="",Y21="",Z21="",AA21=""),$AD$6,$AD$7), IF(AND(M21=$M$7,N21=$N$6), IF(OR(I21="",J21="",K21="",L21="",M21="",N21="",O21="",Q21="",R21="",AA21=""),$AD$6,$AD$7), IF(AND(M21=$M$6,N21=$N$7), IF(OR(I21="",J21="",K21="",L21="",M21="",N21="",O21="",Q21="",R21="",AB21=""),$AD$6,$AD$7), IF(OR(M21="",N21=""),$AD$6,$AD$7))))) | AE21: =IF(SUM(O21:R21)=0,"", IF(OR( V21<=0, X21<12, Z21>30),$AE$6,$AE$7)) | AF21: =IF($M21=$M$6,MAX(($AB21+$R21-$O21),0),MAX(($R21-$Q21),0)) -> 0 | AG21: =IFERROR(O21/('1. Ietvertie INRD'!$F$9+'1. Ietvertie INRD'!$F$12+'1. Ietvertie INRD'!$F$15+'1. Ietvertie INRD'!$F$18+'1. Ietvertie INRD'!$F$21),"") | AH21: =IFERROR(AF21/'1. Ietvertie INRD'!$F$5,"") | AJ21: =IF(AI21=$M$6,AF21,0) -> 0 | AK21: ='1. Ietvertie INRD'!$F$5-SUM(AJ21:AJ220) -> 0
H22: 2. | AD22: =IF(SUM(O22:R22)=0,"", IF(AND(M22=$M$7,N22=$N$7), IF(OR(I22="",J22="",K22="",L22="",M22="",N22="",O22="",P22="",Q22="",R22="",S22="",V22="",W22="",X22="",Y22="",Z22="",AA22=""),$AD$6,$AD$7), IF(AND(M22=$M$7,N22=$N$6), IF(OR(I22="",J22="",K22="",L22="",M22="",N22="",O22="",Q22="",R22="",AA22=""),$AD$6,$AD$7), IF(AND(M22=$M$6,N22=$N$7), IF(OR(I22="",J22="",K22="",L22="",M22="",N22="",O22="",Q22="",R22="",AB22=""),$AD$6,$AD$7), IF(OR(M22="",N22=""),$AD$6,$AD$7))))) | AE22: =IF(SUM(O22:R22)=0,"", IF(OR( V22<=0, X22<12, Z22>30),$AE$6,$AE$7)) | AF22: =IF($M22=$M$6,MAX(($AB22+$R22-$O22),0),MAX(($R22-$Q22),0)) -> 0 | AG22: =IFERROR(O22/('1. Ietvertie INRD'!$F$9+'1. Ietvertie INRD'!$F$12+'1. Ietvertie INRD'!$F$15+'1. Ietvertie INRD'!$F$18+'1. Ietvertie INRD'!$F$21),"") | AH22: =IFERROR(AF22/'1. Ietvertie INRD'!$F$5,"") | AJ22: =IF(AI22=$M$6,AF22,0) -> 0
H23: 3. | AD23: =IF(SUM(O23:R23)=0,"", IF(AND(M23=$M$7,N23=$N$7), IF(OR(I23="",J23="",K23="",L23="",M23="",N23="",O23="",P23="",Q23="",R23="",S23="",V23="",W23="",X23="",Y23="",Z23="",AA23=""),$AD$6,$AD$7), IF(AND(M23=$M$7,N23=$N$6), IF(OR(I23="",J23="",K23="",L23="",M23="",N23="",O23="",Q23="",R23="",AA23=""),$AD$6,$AD$7), IF(AND(M23=$M$6,N23=$N$7), IF(OR(I23="",J23="",K23="",L23="",M23="",N23="",O23="",Q23="",R23="",AB23=""),$AD$6,$AD$7), IF(OR(M23="",N23=""),$AD$6,$AD$7))))) | AE23: =IF(SUM(O23:R23)=0,"", IF(OR( V23<=0, X23<12, Z23>30),$AE$6,$AE$7)) | AF23: =IF($M23=$M$6,MAX(($AB23+$R23-$O23),0),MAX(($R23-$Q23),0)) -> 0 | AG23: =IFERROR(O23/('1. Ietvertie INRD'!$F$9+'1. Ietvertie INRD'!$F$12+'1. Ietvertie INRD'!$F$15+'1. Ietvertie INRD'!$F$18+'1. Ietvertie INRD'!$F$21),"") | AH23: =IFERROR(AF23/'1. Ietvertie INRD'!$F$5,"") | AJ23: =IF(AI23=$M$6,AF23,0) -> 0
H24: 4. | AD24: =IF(SUM(O24:R24)=0,"", IF(AND(M24=$M$7,N24=$N$7), IF(OR(I24="",J24="",K24="",L24="",M24="",N24="",O24="",P24="",Q24="",R24="",S24="",V24="",W24="",X24="",Y24="",Z24="",AA24=""),$AD$6,$AD$7), IF(AND(M24=$M$7,N24=$N$6), IF(OR(I24="",J24="",K24="",L24="",M24="",N24="",O24="",Q24="",R24="",AA24=""),$AD$6,$AD$7), IF(AND(M24=$M$6,N24=$N$7), IF(OR(I24="",J24="",K24="",L24="",M24="",N24="",O24="",Q24="",R24="",AB24=""),$AD$6,$AD$7), IF(OR(M24="",N24=""),$AD$6,$AD$7))))) | AE24: =IF(SUM(O24:R24)=0,"", IF(OR( V24<=0, X24<12, Z24>30),$AE$6,$AE$7)) | AF24: =IF($M24=$M$6,MAX(($AB24+$R24-$O24),0),MAX(($R24-$Q24),0)) -> 0 | AG24: =IFERROR(O24/('1. Ietvertie INRD'!$F$9+'1. Ietvertie INRD'!$F$12+'1. Ietvertie INRD'!$F$15+'1. Ietvertie INRD'!$F$18+'1. Ietvertie INRD'!$F$21),"") | AH24: =IFERROR(AF24/'1. Ietvertie INRD'!$F$5,"") | AJ24: =IF(AI24=$M$6,AF24,0) -> 0
H25: 5. | AD25: =IF(SUM(O25:R25)=0,"", IF(AND(M25=$M$7,N25=$N$7), IF(OR(I25="",J25="",K25="",L25="",M25="",N25="",O25="",P25="",Q25="",R25="",S25="",V25="",W25="",X25="",Y25="",Z25="",AA25=""),$AD$6,$AD$7), IF(AND(M25=$M$7,N25=$N$6), IF(OR(I25="",J25="",K25="",L25="",M25="",N25="",O25="",Q25="",R25="",AA25=""),$AD$6,$AD$7), IF(AND(M25=$M$6,N25=$N$7), IF(OR(I25="",J25="",K25="",L25="",M25="",N25="",O25="",Q25="",R25="",AB25=""),$AD$6,$AD$7), IF(OR(M25="",N25=""),$AD$6,$AD$7))))) | AE25: =IF(SUM(O25:R25)=0,"", IF(OR( V25<=0, X25<12, Z25>30),$AE$6,$AE$7)) | AF25: =IF($M25=$M$6,MAX(($AB25+$R25-$O25),0),MAX(($R25-$Q25),0)) -> 0 | AG25: =IFERROR(O25/('1. Ietvertie INRD'!$F$9+'1. Ietvertie INRD'!$F$12+'1. Ietvertie INRD'!$F$15+'1. Ietvertie INRD'!$F$18+'1. Ietvertie INRD'!$F$21),"") | AH25: =IFERROR(AF25/'1. Ietvertie INRD'!$F$5,"") | AJ25: =IF(AI25=$M$6,AF25,0) -> 0
H26: 6. | AD26: =IF(SUM(O26:R26)=0,"", IF(AND(M26=$M$7,N26=$N$7), IF(OR(I26="",J26="",K26="",L26="",M26="",N26="",O26="",P26="",Q26="",R26="",S26="",V26="",W26="",X26="",Y26="",Z26="",AA26=""),$AD$6,$AD$7), IF(AND(M26=$M$7,N26=$N$6), IF(OR(I26="",J26="",K26="",L26="",M26="",N26="",O26="",Q26="",R26="",AA26=""),$AD$6,$AD$7), IF(AND(M26=$M$6,N26=$N$7), IF(OR(I26="",J26="",K26="",L26="",M26="",N26="",O26="",Q26="",R26="",AB26=""),$AD$6,$AD$7), IF(OR(M26="",N26=""),$AD$6,$AD$7))))) | AE26: =IF(SUM(O26:R26)=0,"", IF(OR( V26<=0, X26<12, Z26>30),$AE$6,$AE$7)) | AF26: =IF($M26=$M$6,MAX(($AB26+$R26-$O26),0),MAX(($R26-$Q26),0)) -> 0 | AG26: =IFERROR(O26/('1. Ietvertie INRD'!$F$9+'1. Ietvertie INRD'!$F$12+'1. Ietvertie INRD'!$F$15+'1. Ietvertie INRD'!$F$18+'1. Ietvertie INRD'!$F$21),"") | AH26: =IFERROR(AF26/'1. Ietvertie INRD'!$F$5,"") | AJ26: =IF(AI26=$M$6,AF26,0) -> 0
H27: 7. | AD27: =IF(SUM(O27:R27)=0,"", IF(AND(M27=$M$7,N27=$N$7), IF(OR(I27="",J27="",K27="",L27="",M27="",N27="",O27="",P27="",Q27="",R27="",S27="",V27="",W27="",X27="",Y27="",Z27="",AA27=""),$AD$6,$AD$7), IF(AND(M27=$M$7,N27=$N$6), IF(OR(I27="",J27="",K27="",L27="",M27="",N27="",O27="",Q27="",R27="",AA27=""),$AD$6,$AD$7), IF(AND(M27=$M$6,N27=$N$7), IF(OR(I27="",J27="",K27="",L27="",M27="",N27="",O27="",Q27="",R27="",AB27=""),$AD$6,$AD$7), IF(OR(M27="",N27=""),$AD$6,$AD$7))))) | AE27: =IF(SUM(O27:R27)=0,"", IF(OR( V27<=0, X27<12, Z27>30),$AE$6,$AE$7)) | AF27: =IF($M27=$M$6,MAX(($AB27+$R27-$O27),0),MAX(($R27-$Q27),0)) -> 0 | AG27: =IFERROR(O27/('1. Ietvertie INRD'!$F$9+'1. Ietvertie INRD'!$F$12+'1. Ietvertie INRD'!$F$15+'1. Ietvertie INRD'!$F$18+'1. Ietvertie INRD'!$F$21),"") | AH27: =IFERROR(AF27/'1. Ietvertie INRD'!$F$5,"") | AJ27: =IF(AI27=$M$6,AF27,0) -> 0
H28: 8. | AD28: =IF(SUM(O28:R28)=0,"", IF(AND(M28=$M$7,N28=$N$7), IF(OR(I28="",J28="",K28="",L28="",M28="",N28="",O28="",P28="",Q28="",R28="",S28="",V28="",W28="",X28="",Y28="",Z28="",AA28=""),$AD$6,$AD$7), IF(AND(M28=$M$7,N28=$N$6), IF(OR(I28="",J28="",K28="",L28="",M28="",N28="",O28="",Q28="",R28="",AA28=""),$AD$6,$AD$7), IF(AND(M28=$M$6,N28=$N$7), IF(OR(I28="",J28="",K28="",L28="",M28="",N28="",O28="",Q28="",R28="",AB28=""),$AD$6,$AD$7), IF(OR(M28="",N28=""),$AD$6,$AD$7))))) | AE28: =IF(SUM(O28:R28)=0,"", IF(OR( V28<=0, X28<12, Z28>30),$AE$6,$AE$7)) | AF28: =IF($M28=$M$6,MAX(($AB28+$R28-$O28),0),MAX(($R28-$Q28),0)) -> 0 | AG28: =IFERROR(O28/('1. Ietvertie INRD'!$F$9+'1. Ietvertie INRD'!$F$12+'1. Ietvertie INRD'!$F$15+'1. Ietvertie INRD'!$F$18+'1. Ietvertie INRD'!$F$21),"") | AH28: =IFERROR(AF28/'1. Ietvertie INRD'!$F$5,"") | AJ28: =IF(AI28=$M$6,AF28,0) -> 0
H29: 9. | AD29: =IF(SUM(O29:R29)=0,"", IF(AND(M29=$M$7,N29=$N$7), IF(OR(I29="",J29="",K29="",L29="",M29="",N29="",O29="",P29="",Q29="",R29="",S29="",V29="",W29="",X29="",Y29="",Z29="",AA29=""),$AD$6,$AD$7), IF(AND(M29=$M$7,N29=$N$6), IF(OR(I29="",J29="",K29="",L29="",M29="",N29="",O29="",Q29="",R29="",AA29=""),$AD$6,$AD$7), IF(AND(M29=$M$6,N29=$N$7), IF(OR(I29="",J29="",K29="",L29="",M29="",N29="",O29="",Q29="",R29="",AB29=""),$AD$6,$AD$7), IF(OR(M29="",N29=""),$AD$6,$AD$7))))) | AE29: =IF(SUM(O29:R29)=0,"", IF(OR( V29<=0, X29<12, Z29>30),$AE$6,$AE$7)) | AF29: =IF($M29=$M$6,MAX(($AB29+$R29-$O29),0),MAX(($R29-$Q29),0)) -> 0 | AG29: =IFERROR(O29/('1. Ietvertie INRD'!$F$9+'1. Ietvertie INRD'!$F$12+'1. Ietvertie INRD'!$F$15+'1. Ietvertie INRD'!$F$18+'1. Ietvertie INRD'!$F$21),"") | AH29: =IFERROR(AF29/'1. Ietvertie INRD'!$F$5,"") | AJ29: =IF(AI29=$M$6,AF29,0) -> 0
H30: 10. | AD30: =IF(SUM(O30:R30)=0,"", IF(AND(M30=$M$7,N30=$N$7), IF(OR(I30="",J30="",K30="",L30="",M30="",N30="",O30="",P30="",Q30="",R30="",S30="",V30="",W30="",X30="",Y30="",Z30="",AA30=""),$AD$6,$AD$7), IF(AND(M30=$M$7,N30=$N$6), IF(OR(I30="",J30="",K30="",L30="",M30="",N30="",O30="",Q30="",R30="",AA30=""),$AD$6,$AD$7), IF(AND(M30=$M$6,N30=$N$7), IF(OR(I30="",J30="",K30="",L30="",M30="",N30="",O30="",Q30="",R30="",AB30=""),$AD$6,$AD$7), IF(OR(M30="",N30=""),$AD$6,$AD$7))))) | AE30: =IF(SUM(O30:R30)=0,"", IF(OR( V30<=0, X30<12, Z30>30),$AE$6,$AE$7)) | AF30: =IF($M30=$M$6,MAX(($AB30+$R30-$O30),0),MAX(($R30-$Q30),0)) -> 0 | AG30: =IFERROR(O30/('1. Ietvertie INRD'!$F$9+'1. Ietvertie INRD'!$F$12+'1. Ietvertie INRD'!$F$15+'1. Ietvertie INRD'!$F$18+'1. Ietvertie INRD'!$F$21),"") | AH30: =IFERROR(AF30/'1. Ietvertie INRD'!$F$5,"") | AJ30: =IF(AI30=$M$6,AF30,0) -> 0
H31: 11. | AD31: =IF(SUM(O31:R31)=0,"", IF(AND(M31=$M$7,N31=$N$7), IF(OR(I31="",J31="",K31="",L31="",M31="",N31="",O31="",P31="",Q31="",R31="",S31="",V31="",W31="",X31="",Y31="",Z31="",AA31=""),$AD$6,$AD$7), IF(AND(M31=$M$7,N31=$N$6), IF(OR(I31="",J31="",K31="",L31="",M31="",N31="",O31="",Q31="",R31="",AA31=""),$AD$6,$AD$7), IF(AND(M31=$M$6,N31=$N$7), IF(OR(I31="",J31="",K31="",L31="",M31="",N31="",O31="",Q31="",R31="",AB31=""),$AD$6,$AD$7), IF(OR(M31="",N31=""),$AD$6,$AD$7))))) | AE31: =IF(SUM(O31:R31)=0,"", IF(OR( V31<=0, X31<12, Z31>30),$AE$6,$AE$7)) | AF31: =IF($M31=$M$6,MAX(($AB31+$R31-$O31),0),MAX(($R31-$Q31),0)) -> 0 | AG31: =IFERROR(O31/('1. Ietvertie INRD'!$F$9+'1. Ietvertie INRD'!$F$12+'1. Ietvertie INRD'!$F$15+'1. Ietvertie INRD'!$F$18+'1. Ietvertie INRD'!$F$21),"") | AH31: =IFERROR(AF31/'1. Ietvertie INRD'!$F$5,"") | AJ31: =IF(AI31=$M$6,AF31,0) -> 0
H32: 12. | AD32: =IF(SUM(O32:R32)=0,"", IF(AND(M32=$M$7,N32=$N$7), IF(OR(I32="",J32="",K32="",L32="",M32="",N32="",O32="",P32="",Q32="",R32="",S32="",V32="",W32="",X32="",Y32="",Z32="",AA32=""),$AD$6,$AD$7), IF(AND(M32=$M$7,N32=$N$6), IF(OR(I32="",J32="",K32="",L32="",M32="",N32="",O32="",Q32="",R32="",AA32=""),$AD$6,$AD$7), IF(AND(M32=$M$6,N32=$N$7), IF(OR(I32="",J32="",K32="",L32="",M32="",N32="",O32="",Q32="",R32="",AB32=""),$AD$6,$AD$7), IF(OR(M32="",N32=""),$AD$6,$AD$7))))) | AE32: =IF(SUM(O32:R32)=0,"", IF(OR( V32<=0, X32<12, Z32>30),$AE$6,$AE$7)) | AF32: =IF($M32=$M$6,MAX(($AB32+$R32-$O32),0),MAX(($R32-$Q32),0)) -> 0 | AG32: =IFERROR(O32/('1. Ietvertie INRD'!$F$9+'1. Ietvertie INRD'!$F$12+'1. Ietvertie INRD'!$F$15+'1. Ietvertie INRD'!$F$18+'1. Ietvertie INRD'!$F$21),"") | AH32: =IFERROR(AF32/'1. Ietvertie INRD'!$F$5,"") | AJ32: =IF(AI32=$M$6,AF32,0) -> 0
H33: 13. | AD33: =IF(SUM(O33:R33)=0,"", IF(AND(M33=$M$7,N33=$N$7), IF(OR(I33="",J33="",K33="",L33="",M33="",N33="",O33="",P33="",Q33="",R33="",S33="",V33="",W33="",X33="",Y33="",Z33="",AA33=""),$AD$6,$AD$7), IF(AND(M33=$M$7,N33=$N$6), IF(OR(I33="",J33="",K33="",L33="",M33="",N33="",O33="",Q33="",R33="",AA33=""),$AD$6,$AD$7), IF(AND(M33=$M$6,N33=$N$7), IF(OR(I33="",J33="",K33="",L33="",M33="",N33="",O33="",Q33="",R33="",AB33=""),$AD$6,$AD$7), IF(OR(M33="",N33=""),$AD$6,$AD$7))))) | AE33: =IF(SUM(O33:R33)=0,"", IF(OR( V33<=0, X33<12, Z33>30),$AE$6,$AE$7)) | AF33: =IF($M33=$M$6,MAX(($AB33+$R33-$O33),0),MAX(($R33-$Q33),0)) -> 0 | AG33: =IFERROR(O33/('1. Ietvertie INRD'!$F$9+'1. Ietvertie INRD'!$F$12+'1. Ietvertie INRD'!$F$15+'1. Ietvertie INRD'!$F$18+'1. Ietvertie INRD'!$F$21),"") | AH33: =IFERROR(AF33/'1. Ietvertie INRD'!$F$5,"") | AJ33: =IF(AI33=$M$6,AF33,0) -> 0
... H220: 200. | AD220: =IF(SUM(O220:R220)=0,"", IF(AND(M220=$M$7,N220=$N$7), IF(OR(I220="",J220="",K220="",L220="",M220="",N220="",O220="",P220="",Q220="",R220="",S220="",V220="",W220="",X220="",Y220="",Z220="",AA220=""),$AD$6,$AD$7), IF(AND(M220=$M$7,N220=$N$6), IF(OR(I220="",J220="",K220="",L220="",M220="",N220="",O220="",Q220="",R220="",AA220=""),$AD$6,$AD$7), IF(AND(M220=$M$6,N220=$N$7), IF(OR(I220="",J220="",K220="",L220="",M220="",N220="",O220="",Q220="",R220="",AB220=""),$AD$6,$AD$7), IF(OR(M220="",N220=""),$AD$6,$AD$7))))) | AE220: =IF(SUM(O220:R220)=0,"", IF(OR( V220<=0, X220<12, Z220>30),$AE$6,$AE$7)) | AF220: =IF($M220=$M$6,MAX(($AB220+$R220-$O220),0),MAX(($R220-$Q220),0)) -> 0 | AG220: =IFERROR(O220/('1. Ietvertie INRD'!$F$9+'1. Ietvertie INRD'!$F$12+'1. Ietvertie INRD'!$F$15+'1. Ietvertie INRD'!$F$18+'1. Ietvertie INRD'!$F$21),"") | AH220: =IFERROR(AF220/'1. Ietvertie INRD'!$F$5,"") | AJ220: =IF(AI220=$M$6,AF220,0) -> 0

Sheet Sheet1
A1: Yes
A2: No
